BEGIN:VCALENDAR
VERSION:2.0
PRODID:-//ChamberMaster//Event Calendar 2.0//EN
METHOD:PUBLISH
X-PUBLISHED-TTL:P3D
REFRESH-INTERVAL:P3D
CALSCALE:GREGORIAN
BEGIN:VEVENT
DTSTART:20230621T220000Z
DTEND:20230622T010000Z
X-MICROSOFT-CDO-ALLDAYEVENT:FALSE
SUMMARY:Downtown Chaska Farmers' Market
DESCRIPTION:Join us for the 2023 Downtown Chaska Farmers' Market!\n\nWednesdays\, June 21 - September 20 \n\n\n\n5:00--8:00 p.m. (June 21 - August 9)\n\n4:00--7:00 p.m. (August 16 - September 20) \n\n\n\nClick Here for the Registration Form
X-ALT-DESC;FMTTYPE=text/html:<div style="text-align: center\;"><span style="font-size:14px\;"><strong style="text-align: center\;"><span style="font-family: arial\, sans-serif\;">Join us for the 2023&nbsp\;Downtown&nbsp\;Chaska&nbsp\;Farmers&#39\;&nbsp\;Market!<br />\nWednesdays\, June 21&nbsp\;- September 20&nbsp\;<br />\n<br />\n5:00--8:00 p.m. (June 21 - August 9)<br />\n4:00--7:00 p.m. (August 16 - September 20)&nbsp\;</span></strong><br />\n<br style="text-align: center\;" />\n<a href="https://chambermaster.blob.core.windows.net/userfiles/UserFiles/chambers/498/File/2023DowntownChaskaFarmersMarketRegistration.pdf"><b>Click Here for the Registration Form</b></a></span></div>\n
LOCATION:Firemen's Park - Downtown Chaska
UID:e.498.12958
SEQUENCE:3
DTSTAMP:20260423T152456Z
URL:https://business.swmetrochamber.com/events/details/downtown-chaska-farmers-market-12958
END:VEVENT

END:VCALENDAR
