BEGIN:VCALENDAR
VERSION:2.0
PRODID:-//ChamberMaster//Event Calendar 2.0//EN
METHOD:PUBLISH
X-PUBLISHED-TTL:P3D
REFRESH-INTERVAL:P3D
CALSCALE:GREGORIAN
BEGIN:VEVENT
DTSTART:20240418T220000Z
DTEND:20240419T010000Z
X-MICROSOFT-CDO-ALLDAYEVENT:FALSE
SUMMARY:Darabi Dermatology Ribbon Cutting
DESCRIPTION:Join our open house to celebrate the opening of our additional clinic location!
X-ALT-DESC;FMTTYPE=text/html:Join our open house to celebrate the opening of our additional clinic location!
LOCATION:1107 Hazeltine Blvd\, Suite 500 Chaska\, MN 55318
UID:e.498.14405
SEQUENCE:3
DTSTAMP:20260422T091924Z
URL:https://business.swmetrochamber.com/events/details/darabi-dermatology-ribbon-cutting-14405
END:VEVENT

END:VCALENDAR
