BEGIN:VCALENDAR
VERSION:2.0
PRODID:-//ChamberMaster//Event Calendar 2.0//EN
METHOD:PUBLISH
X-PUBLISHED-TTL:P3D
REFRESH-INTERVAL:P3D
CALSCALE:GREGORIAN
BEGIN:VEVENT
DTSTART:20260326T203000Z
DTEND:20260326T223000Z
X-MICROSOFT-CDO-ALLDAYEVENT:FALSE
SUMMARY:Crown College School of Business Career Networking Event
DESCRIPTION:Partner with Crown faculty and other marketplace leaders as we create career opportunities for the next generation together. Showcase your business\, meet motivated students who are hungry to learn from your experience\, and build a stronger network in our community.\n\n\n\nRSVP here! \n\nhttps://forms.office.com/Pages/ResponsePage.aspx?id=jfrGzCXQ6UC_DjLVT6FnCye8gwFoKF9Fmd61IOK6M3hUQVNPWkhQMk4zNFNEWTVWSVNKQUJRMVFSVi4u&origin=QRCode\n\nThere's never been a better time to invest please join us!
X-ALT-DESC;FMTTYPE=text/html:Partner with Crown faculty and other marketplace leaders as we create career opportunities for the next generation together. Showcase your business\, meet motivated students who are hungry to learn from your experience\, and build a stronger network in our community.<br />\n<br />\nRSVP here!&nbsp\;<br />\n<a href="https://forms.office.com/Pages/ResponsePage.aspx?id=jfrGzCXQ6UC_DjLVT6FnCye8gwFoKF9Fmd61IOK6M3hUQVNPWkhQMk4zNFNEWTVWSVNKQUJRMVFSVi4u&amp\;origin=QRCode">https://forms.office.com/Pages/ResponsePage.aspx?id=jfrGzCXQ6UC_DjLVT6FnCye8gwFoKF9Fmd61IOK6M3hUQVNPWkhQMk4zNFNEWTVWSVNKQUJRMVFSVi4u&amp\;origin=QRCode</a><br />\nThere&rsquo\;s never been a better time to invest&hellip\;please join us!
LOCATION:Crown College\, Fireside Room 8700 College View Dr St. Bonifacius\, MN 55375
UID:e.498.17332
SEQUENCE:3
DTSTAMP:20260421T031800Z
URL:https://business.swmetrochamber.com/events/details/crown-college-school-of-business-career-networking-event-17332
END:VEVENT

END:VCALENDAR
