BEGIN:VCALENDAR
VERSION:2.0
PRODID:-//ChamberMaster//Event Calendar 2.0//EN
METHOD:PUBLISH
X-PUBLISHED-TTL:P3D
REFRESH-INTERVAL:P3D
CALSCALE:GREGORIAN
BEGIN:VEVENT
DTSTART:20240713T123000Z
DTEND:20240713T130000Z
X-MICROSOFT-CDO-ALLDAYEVENT:FALSE
SUMMARY:Costco Ribbon Cutting
DESCRIPTION:Join the SouthWest Metro Chamber of Commerce for the grand opening of Costco in Chaska!
X-ALT-DESC;FMTTYPE=text/html:Join the SouthWest Metro Chamber of Commerce for the grand opening of Costco in Chaska!&nbsp\;
LOCATION:Costco 2 Oakridge Drive\, Chaska MN 55318
UID:e.498.14717
SEQUENCE:3
DTSTAMP:20260422T053246Z
URL:https://business.swmetrochamber.com/events/details/costco-ribbon-cutting-14717
END:VEVENT

END:VCALENDAR
