BEGIN:VCALENDAR
VERSION:2.0
PRODID:-//ChamberMaster//Event Calendar 2.0//EN
METHOD:PUBLISH
X-PUBLISHED-TTL:P3D
REFRESH-INTERVAL:P3D
CALSCALE:GREGORIAN
BEGIN:VEVENT
DTSTART:20250422T130000Z
DTEND:20250422T140000Z
X-MICROSOFT-CDO-ALLDAYEVENT:FALSE
SUMMARY:Coffee & Connect
DESCRIPTION:Join the SouthWest Metro Chamber of Commerce at The Great Frame Up for FREE coffee and an opportunity to build relationships with fellow Chamber Members!\n\n\n\nNon-Members are welcome\, come "test drive" the Chamber before joining!
X-ALT-DESC;FMTTYPE=text/html:Join the SouthWest Metro Chamber of Commerce at&nbsp\;<strong>The Great Frame Up&nbsp\;</strong>for&nbsp\;<u>FREE</u>&nbsp\;coffee and an opportunity to build relationships with fellow Chamber Members!<br />\n<br />\nNon-Members are welcome\, come &quot\;test drive&quot\; the Chamber before joining!
LOCATION:The Great Frame Up 854 W 78th St Suite 202\, Chanhassen\, MN 55317
UID:e.498.15805
SEQUENCE:3
DTSTAMP:20260421T195014Z
URL:https://business.swmetrochamber.com/events/details/coffee-connect-15805
END:VEVENT

END:VCALENDAR
