BEGIN:VCALENDAR
VERSION:2.0
PRODID:-//ChamberMaster//Event Calendar 2.0//EN
METHOD:PUBLISH
X-PUBLISHED-TTL:P3D
REFRESH-INTERVAL:P3D
CALSCALE:GREGORIAN
BEGIN:VEVENT
DTSTART:20241022T130000Z
DTEND:20241022T140000Z
X-MICROSOFT-CDO-ALLDAYEVENT:FALSE
SUMMARY:Coffee & Connect
DESCRIPTION:Join the SouthWest Metro Chamber of Commerce at Security Bank & Trust for FREE coffee and an opportunity to build relationships with fellow Chamber Members!\n\n\n\nNon-Members are welcome\, come "test drive" the Chamber before joining!
X-ALT-DESC;FMTTYPE=text/html:Join the SouthWest Metro Chamber of Commerce at&nbsp\;<strong><a href="https://business.swmetrochamber.com/list/member/security-bank-trust-co-10122">Security Bank &amp\; Trust</a>&nbsp\;</strong>for&nbsp\;<u>FREE</u>&nbsp\;coffee and an opportunity to build relationships with fellow Chamber Members!<br />\n<br />\nNon-Members are welcome\, come &quot\;test drive&quot\; the Chamber before joining!
LOCATION:Security Bank & Trust 1575 White Oak Drive Chaska\, MN 55318
UID:e.498.13724
SEQUENCE:3
DTSTAMP:20260422T014954Z
URL:https://business.swmetrochamber.com/events/details/coffee-connect-10-22-2024-13724
END:VEVENT

END:VCALENDAR
