BEGIN:VCALENDAR
VERSION:2.0
PRODID:-//ChamberMaster//Event Calendar 2.0//EN
METHOD:PUBLISH
X-PUBLISHED-TTL:P3D
REFRESH-INTERVAL:P3D
CALSCALE:GREGORIAN
BEGIN:VEVENT
DTSTART:20210927T150000Z
DTEND:20210927T230000Z
X-MICROSOFT-CDO-ALLDAYEVENT:FALSE
SUMMARY:Children of Tomorrow- OPEN HOUSE
DESCRIPTION:We're Excited to Meet You! Children of Tomorrow -Chanhassen is hosting an Open House on Monday\, September\, 27th from 10 am-6 p. Do you have a preschool/pre-k child who loves to learn\, wants to make new friends\, and explore through play? Tour our Chanhassen location\, meet our incredible staff\, and see why Children of Tomorrow has been a foundation for education since 2000!
X-ALT-DESC;FMTTYPE=text/html:We&#39\;re Excited to Meet You! Children of Tomorrow -Chanhassen is hosting an Open House on Monday\, September\, 27th from 10 am-6 p. Do you have a preschool/pre-k child who loves to learn\, wants to make new friends\, and explore through play? Tour our Chanhassen location\, meet our incredible staff\, and see why Children of Tomorrow has been a foundation for education since 2000!
LOCATION:1490 Lake Drive West Chanhassen\, MN 55317
UID:e.498.12401
SEQUENCE:3
DTSTAMP:20260426T032722Z
URL:https://business.swmetrochamber.com/events/details/children-of-tomorrow-open-house-12401
END:VEVENT

END:VCALENDAR
