BEGIN:VCALENDAR
VERSION:2.0
PRODID:-//ChamberMaster//Event Calendar 2.0//EN
METHOD:PUBLISH
X-PUBLISHED-TTL:P3D
REFRESH-INTERVAL:P3D
CALSCALE:GREGORIAN
BEGIN:VEVENT
DTSTART:20140625T150000Z
DTEND:20140625T180000Z
X-MICROSOFT-CDO-ALLDAYEVENT:FALSE
SUMMARY:Chaska Farmer's Market
DESCRIPTION:At the Chaska Farmers Market\, you will find an assortment of fresh produce and other locally produced foods and products. Please remember the vendors accept cash or checks only\; they do not take credit cards. \n\nIf you'd like to be a vendor at the market\, please contact Sheila at 612-226-5348.\n\n \n\nIf you have questions or would like more information on the Chaska Farmers Market\, please call Kathy at 952-361-1525.
X-ALT-DESC;FMTTYPE=text/html:<span style="font-family:calibri\,sans-serif\;">At the Chaska Farmers Market\, you will find an assortment of fresh produce and other locally produced foods and products. Please remember the vendors accept cash or checks only\; they do not take credit cards. </span><br />\n<span style="font-family:calibri\,sans-serif\;">If you&rsquo\;d like to be a vendor at the market\, please contact Sheila at 612-226-5348.</span><br />\n&nbsp\;<br />\n<span style="font-family:calibri\,sans-serif\;">If you have questions or would like more information on the Chaska Farmers Market\, please call Kathy at 952-361-1525.</span>
LOCATION:Chaska Farmers Market Beginning June 25th 10 a.m. to 1 p.m. Wednesdays Carver County Government Center 600 East Fourth Street\, Chaska
UID:e.498.6531
SEQUENCE:3
DTSTAMP:20260425T211533Z
URL:https://business.swmetrochamber.com/events/details/chaska-farmer-s-market-06-25-2014-6531
END:VEVENT

END:VCALENDAR
