BEGIN:VCALENDAR
VERSION:2.0
PRODID:-//ChamberMaster//Event Calendar 2.0//EN
METHOD:PUBLISH
X-PUBLISHED-TTL:P3D
REFRESH-INTERVAL:P3D
CALSCALE:GREGORIAN
BEGIN:VEVENT
DTSTART:20190909T163000Z
DTEND:20190910T013000Z
X-MICROSOFT-CDO-ALLDAYEVENT:FALSE
SUMMARY:Chaska Chanhassen Hockey Association Caddyshack Classic Golf Scramble
DESCRIPTION:Chaska Chanhassen Hockey Association Caddyshack Classic Golf Scramble on September 9. Lunch begins at 11:30 AM with the shotgun start at 1:00 PM. Dinner is at 6:00 PM
X-ALT-DESC;FMTTYPE=text/html:Chaska Chanhassen Hockey Association Caddyshack Classic Golf Scramble on September 9. Lunch begins at 11:30 AM with the shotgun start at 1:00 PM. Dinner is at 6:00 PM
LOCATION:Deer Run Golf Club September 9th
UID:e.498.9125
SEQUENCE:3
DTSTAMP:20260421T062301Z
URL:https://business.swmetrochamber.com/events/details/chaska-chanhassen-hockey-association-caddyshack-classic-golf-scramble-9125
END:VEVENT

END:VCALENDAR
