BEGIN:VCALENDAR
VERSION:2.0
PRODID:-//ChamberMaster//Event Calendar 2.0//EN
METHOD:PUBLISH
X-PUBLISHED-TTL:P3D
REFRESH-INTERVAL:P3D
CALSCALE:GREGORIAN
BEGIN:VEVENT
DTSTART:20190924T130000Z
DTEND:20190924T140000Z
X-MICROSOFT-CDO-ALLDAYEVENT:FALSE
SUMMARY:Chanhassen Meet & Greet
DESCRIPTION:Looking for a networking opportunity specific to Chanhassen? Then join us for the Chanhassen Meet & Greet!\n\n\n\nSouthwest Transit is an important part of our business community.  Come here about all of their services and future plans.  There is no charge to attend and fresh brewed coffee will be provided. See you there!
X-ALT-DESC;FMTTYPE=text/html:Looking for a networking opportunity specific to Chanhassen? Then join us for the Chanhassen&nbsp\;Meet &amp\; Greet!<br />\n<br />\nSouthwest Transit is an important part of our business community.&nbsp\; Come here about all of their services and future plans. &nbsp\;There is no charge to attend and fresh brewed coffee will be provided. See you there!
LOCATION:Southwest Transit Station 500 Market St. Chanhassen\, MN 55317
UID:e.498.7793
SEQUENCE:3
DTSTAMP:20260421T063053Z
URL:https://business.swmetrochamber.com/events/details/chanhassen-meet-greet-09-24-2019-7793
END:VEVENT

END:VCALENDAR
