BEGIN:VCALENDAR
VERSION:2.0
PRODID:-//ChamberMaster//Event Calendar 2.0//EN
METHOD:PUBLISH
X-PUBLISHED-TTL:P3D
REFRESH-INTERVAL:P3D
CALSCALE:GREGORIAN
BEGIN:VEVENT
DTSTART:20210511T140000Z
DTEND:20210511T150000Z
X-MICROSOFT-CDO-ALLDAYEVENT:FALSE
SUMMARY:Chamber Meet & Greet
DESCRIPTION:This is a great opportunity to meet and connect with other business representatives and learn more about the host business.  Around 9:30am we gather in a circle and everyone gets to introduce themselves and talk briefly about their business.\n\n\n\nNo Cost to attend and coffee provided!   Masks required.
X-ALT-DESC;FMTTYPE=text/html:<strong style="font-size: 14px\;">This is a great opportunity to meet and connect with other business representatives and learn more about the host business.&nbsp\; Around 9:30am we gather in a circle and everyone gets to introduce themselves and talk briefly about their business.<br />\n<br />\nNo Cost to attend and coffee provided!&nbsp\; &nbsp\;Masks required.</strong>
LOCATION:Country Inn & Suites Chanhassen 591 W 78th St
UID:e.498.12209
SEQUENCE:3
DTSTAMP:20260419T162200Z
URL:https://business.swmetrochamber.com/events/details/chamber-meet-greet-12209
END:VEVENT

END:VCALENDAR
