BEGIN:VCALENDAR
VERSION:2.0
PRODID:-//ChamberMaster//Event Calendar 2.0//EN
METHOD:PUBLISH
X-PUBLISHED-TTL:P3D
REFRESH-INTERVAL:P3D
CALSCALE:GREGORIAN
BEGIN:VEVENT
DTSTART:20230622T230000Z
DTEND:20230623T010000Z
X-MICROSOFT-CDO-ALLDAYEVENT:FALSE
SUMMARY:Carver Vehicle Fair
DESCRIPTION:The Carver Vehicle Fair is back for 2023! Climb aboard heavy equipment vehicles\, fire trucks\, police cars\, and more! There will be photo opportunities\, a bounce house\, yard games\, and food trucks\, including: Wonders Ice Cream Sumo Egg Rolls Pizza Karma Cane and Cotton
X-ALT-DESC;FMTTYPE=text/html:The Carver Vehicle Fair is back for 2023! Climb aboard heavy equipment vehicles\, fire trucks\, police cars\, and more! There will be photo opportunities\, a bounce house\, yard games\, and food trucks\, including: Wonders Ice Cream Sumo Egg Rolls Pizza Karma Cane and Cotton
LOCATION:Carver Station | 1607 Hartwell Drive\, Carver\, MN 55315
UID:e.498.13090
SEQUENCE:3
DTSTAMP:20260423T165023Z
URL:https://business.swmetrochamber.com/events/details/carver-vehicle-fair-13090
END:VEVENT

END:VCALENDAR
