BEGIN:VCALENDAR
VERSION:2.0
PRODID:-//ChamberMaster//Event Calendar 2.0//EN
METHOD:PUBLISH
X-PUBLISHED-TTL:P3D
REFRESH-INTERVAL:P3D
CALSCALE:GREGORIAN
BEGIN:VEVENT
DTSTART;VALUE=DATE:20210910
DTEND;VALUE=DATE:20210913
TRANSP:TRANSPARENT
X-MICROSOFT-CDO-ALLDAYEVENT:TRUE
SUMMARY:Carver Steamboat Days
DESCRIPTION:Home | CarverSteamboatDays
X-ALT-DESC;FMTTYPE=text/html:<a href="https://www.carversteamboatdays.info/">Home | CarverSteamboatDays</a>
LOCATION:Home | CarverSteamboatDays
UID:e.498.12377
SEQUENCE:3
DTSTAMP:20260426T005745Z
URL:https://business.swmetrochamber.com/events/details/carver-steamboat-days-12377
END:VEVENT

END:VCALENDAR
