BEGIN:VCALENDAR
VERSION:2.0
PRODID:-//ChamberMaster//Event Calendar 2.0//EN
METHOD:PUBLISH
X-PUBLISHED-TTL:P3D
REFRESH-INTERVAL:P3D
CALSCALE:GREGORIAN
BEGIN:VEVENT
DTSTART:20190920T190000Z
DTEND:20190921T000000Z
X-MICROSOFT-CDO-ALLDAYEVENT:FALSE
SUMMARY:Carver Insurance Open House at new location
DESCRIPTION:Carver Insurance Group and Agency One Insurance's main office has moved to a new location - around the corner.  \n\nOur new physical address is 113 Third St E in Carver\, MN.\n\nWe are 1/2 block to the east of Harvey's in downtown Carver.\n\n\n\nPlease join us for our Open House on Friday\, September 20\, 2019.\n\n\n\nWe will be having prizes\, drawings and refreshments\n\nfrom 2pm to 7pm.\n\n\n\nStay for the live music we are hosting across the street in Gazebo Park from 6pm to 9:30pm - bring lawn chairs!
X-ALT-DESC;FMTTYPE=text/html:<span style="color: black\; font-family: &quot\;Comic Sans MS&quot\;\; font-size: 12pt\; mso-fareast-font-family: Calibri\; mso-fareast-theme-font: minor-latin\; mso-bidi-font-family: &quot\;Times New Roman&quot\;\; mso-ansi-language: EN-US\; mso-fareast-language: EN-US\; mso-bidi-language: AR-SA\;">Carver Insurance Group and Agency One Insurance&#39\;s main office has moved to a new location - </span><span style="color: red\; font-family: &quot\;Comic Sans MS&quot\;\; font-size: 12pt\; mso-fareast-font-family: Calibri\; mso-fareast-theme-font: minor-latin\; mso-bidi-font-family: &quot\;Times New Roman&quot\;\; mso-ansi-language: EN-US\; mso-fareast-language: EN-US\; mso-bidi-language: AR-SA\;">around the corner.&nbsp\; </span><br />\n<span style="color: black\; font-family: &quot\;Comic Sans MS&quot\;\; font-size: 12pt\; mso-fareast-font-family: Calibri\; mso-fareast-theme-font: minor-latin\; mso-bidi-font-family: &quot\;Times New Roman&quot\;\; mso-ansi-language: EN-US\; mso-fareast-language: EN-US\; mso-bidi-language: AR-SA\;">Our new</span><span style="color: red\; font-family: &quot\;Comic Sans MS&quot\;\; font-size: 12pt\; mso-fareast-font-family: Calibri\; mso-fareast-theme-font: minor-latin\; mso-bidi-font-family: &quot\;Times New Roman&quot\;\; mso-ansi-language: EN-US\; mso-fareast-language: EN-US\; mso-bidi-language: AR-SA\;"> physical </span><span style="color: black\; font-family: &quot\;Comic Sans MS&quot\;\; font-size: 12pt\; mso-fareast-font-family: Calibri\; mso-fareast-theme-font: minor-latin\; mso-bidi-font-family: &quot\;Times New Roman&quot\;\; mso-ansi-language: EN-US\; mso-fareast-language: EN-US\; mso-bidi-language: AR-SA\;">address is 113 Third St E in Carver\, MN.<br />\nWe are 1/2 block to the east of Harvey&#39\;s in downtown Carver.<br />\n<br />\nPlease join us for our Open House on Friday\, September 20\, 2019.<br />\n<br />\nWe will be having prizes\, drawings and refreshments<br />\nfrom 2pm to 7pm.<br />\n<br />\nStay for the live music we are hosting across the street in Gazebo Park from 6pm to 9:30pm - bring lawn chairs!</span>
LOCATION:113 Third St E in Carver\, MN.
UID:e.498.9144
SEQUENCE:3
DTSTAMP:20260421T062245Z
URL:https://business.swmetrochamber.com/events/details/carver-insurance-open-house-at-new-location-9144
END:VEVENT

END:VCALENDAR
