BEGIN:VCALENDAR
VERSION:2.0
PRODID:-//ChamberMaster//Event Calendar 2.0//EN
METHOD:PUBLISH
X-PUBLISHED-TTL:P3D
REFRESH-INTERVAL:P3D
CALSCALE:GREGORIAN
BEGIN:VEVENT
DTSTART:20230620T200000Z
DTEND:20230620T230000Z
X-MICROSOFT-CDO-ALLDAYEVENT:FALSE
SUMMARY:Carver Farmers' Market
DESCRIPTION:Join us for the 2023 Carver Farmers' Market!\n\nTuesdays\, June 20 - September 26\n\n3:00--6:00 p.m.\n\n\n\nNo Market on July 4\, nor September 19\n\n\n\nClick Here for the Registration Form.
X-ALT-DESC;FMTTYPE=text/html:<div style="text-align: center\;"><span style="font-family:arial\;">Join us for the 2023 Carver Farmers&#39\; Market!<br />\nTuesdays\, June 20 - September 26<br />\n3:00--6:00 p.m.<br />\n<br />\n<span style="font-size:11px\;">No Market on July 4\, nor September 19</span><br />\n<br style="box-sizing: border-box\; color: rgb(85\, 85\, 85)\; font-family: Montserrat\, sans-serif\; font-size: 14px\; text-align: center\;" />\n<a href="https://chambermaster.blob.core.windows.net/userfiles/UserFiles/chambers/498/File/2023CarverFarmersMarketRegistrationForm.pdf" style="box-sizing: border-box\; color: rgb(0\, 84\, 159)\; text-decoration-line: none\; overflow-wrap: break-word\; font-family: Montserrat\, sans-serif\; font-size: 14px\; text-align: center\;"><span style="box-sizing: border-box\; font-weight: bolder\;">Click Here for the Registration Form.</span></a></span></div>\n
LOCATION:Carver Station (Southwest Transit)
UID:e.498.12972
SEQUENCE:3
DTSTAMP:20260423T170223Z
URL:https://business.swmetrochamber.com/events/details/carver-farmers-market-12972
END:VEVENT

END:VCALENDAR
