BEGIN:VCALENDAR
VERSION:2.0
PRODID:-//ChamberMaster//Event Calendar 2.0//EN
METHOD:PUBLISH
X-PUBLISHED-TTL:P3D
REFRESH-INTERVAL:P3D
CALSCALE:GREGORIAN
BEGIN:VEVENT
DTSTART:20151027T163000Z
DTEND:20151027T180000Z
X-MICROSOFT-CDO-ALLDAYEVENT:FALSE
SUMMARY:Buy Into Chanhassen
DESCRIPTION:Buy Into Chanhassen will be rolling out its theme for the coming year at our October 27 luncheon meeting.  We'll have representatives from several businesses and organizations which bring hundreds and thousands of folks to Chanhassen on a regular basis - and some of them will be new businesses.  We think our program will be a great way to kick off our new theme:  "Chanhassen - a great place to be".  \n\nMore on that later\, but for now:  Lunch at the American Legion on October 27\, starting at 11:30 at a cost of $15.00 for their always great food.
X-ALT-DESC;FMTTYPE=text/html:<p><span style="font-size:10.0pt\;font-family:&quot\;Arial&quot\;\,&quot\;sans-serif&quot\;">Buy</span><i> </i><i><span style="font-size:10.0pt\;font-family:&quot\;Arial&quot\;\,&quot\;sans-serif&quot\;">Into</span></i> <span style="font-size:10.0pt\;font-family:&quot\;Arial&quot\;\,&quot\;sans-serif&quot\;">Chanhassen will be rolling out its theme for the coming year at our October 27 luncheon meeting.&nbsp\; We&rsquo\;ll have</span> <span style="font-size:10.0pt\;font-family:\n&quot\;Arial&quot\;\,&quot\;sans-serif&quot\;">representatives from</span> <span style="font-size:10.0pt\;\nfont-family:&quot\;Arial&quot\;\,&quot\;sans-serif&quot\;">several</span> <span style="font-size:10.0pt\;\nfont-family:&quot\;Arial&quot\;\,&quot\;sans-serif&quot\;">businesses and organizations which bring hundreds and thousands of folks to Chanhassen on a</span> <span style="font-size:10.0pt\;font-family:&quot\;Arial&quot\;\,&quot\;sans-serif&quot\;">regular basis</span> <span style="font-size:10.0pt\;font-family:&quot\;Arial&quot\;\,&quot\;sans-serif&quot\;">-</span> <span style="font-size:10.0pt\;font-family:&quot\;Arial&quot\;\,&quot\;sans-serif&quot\;">and some</span> <span style="font-size:10.0pt\;font-family:&quot\;Arial&quot\;\,&quot\;sans-serif&quot\;">of them will be new</span> <span style="font-size:10.0pt\;font-family:&quot\;Arial&quot\;\,&quot\;sans-serif&quot\;">businesses.&nbsp\; We think</span> <span style="font-size:10.0pt\;font-family:&quot\;Arial&quot\;\,&quot\;sans-serif&quot\;">our program will be a great way to kick off our</span> <span style="font-size:10.0pt\;\nfont-family:&quot\;Arial&quot\;\,&quot\;sans-serif&quot\;">new</span> <span style="font-size:10.0pt\;\nfont-family:&quot\;Arial&quot\;\,&quot\;sans-serif&quot\;">theme:&nbsp\;</span> <span style="font-size:\n10.0pt\;font-family:&quot\;Arial&quot\;\,&quot\;sans-serif&quot\;">&ldquo\;Chanhassen -</span><i> </i><i><span style="font-size:10.0pt\;font-family:&quot\;Arial&quot\;\,&quot\;sans-serif&quot\;">a great place to be</span></i><span style="font-size:10.0pt\;font-family:&quot\;Arial&quot\;\,&quot\;sans-serif&quot\;">&rdquo\;.&nbsp\;</span> <o:p></o:p></p>\n\n<p><span style="font-size:10.0pt\;font-family:&quot\;Arial&quot\;\,&quot\;sans-serif&quot\;">More on that later\, but for now:&nbsp\;</span> <span style="font-size:10.0pt\;font-family:\n&quot\;Arial&quot\;\,&quot\;sans-serif&quot\;">Lunch at the</span> <span style="font-size:10.0pt\;\nfont-family:&quot\;Arial&quot\;\,&quot\;sans-serif&quot\;">American Legion on October 27\, starting at 11:30 at a cost of $15.00 for their always great food.</span><o:p></o:p></p>\n
LOCATION:Chanhassen American Legion Post #580 290 Lake Drive E. Chanhassen\, MN 55317
UID:e.498.7674
SEQUENCE:3
DTSTAMP:20260424T192428Z
URL:https://business.swmetrochamber.com/events/details/buy-into-chanhassen-10-27-2015-7674
END:VEVENT

END:VCALENDAR
