BEGIN:VCALENDAR
VERSION:2.0
PRODID:-//ChamberMaster//Event Calendar 2.0//EN
METHOD:PUBLISH
X-PUBLISHED-TTL:P3D
REFRESH-INTERVAL:P3D
CALSCALE:GREGORIAN
BEGIN:VEVENT
DTSTART:20230610T130000Z
DTEND:20230610T170000Z
X-MICROSOFT-CDO-ALLDAYEVENT:FALSE
SUMMARY:Bike the Arb
DESCRIPTION:Join us for our third annual Bike the Arb event! The day will kick off with a 20K bike race\, (8 am START) looping cyclists around Three-Mile Drive and out to the Farm at the Arb for three laps. Racers will enjoy the rolling terrain peppered with interesting flora and fauna as the route winds them through the Arboretum's unique plant collections and specialty gardens. Bikers of all ages and abilities will be challenged and thrilled by this beautiful course. Racers can go for their best time\, or simply enjoy a unique bike experience at the Arboretum. Prizes will be awarded to top finishers.  Must pre-register\, see website.
X-ALT-DESC;FMTTYPE=text/html:<p><span style="background-color:transparent\; color:rgb(0\, 0\, 0)\; font-family:arial\; font-size:11pt">Join us for our third annual Bike the Arb event! The day will kick off with a 20K bike race\, (8 am START) looping cyclists around Three-Mile Drive and out to the Farm at the Arb for three laps. Racers will enjoy the rolling terrain peppered with interesting flora and fauna as the route winds them through the Arboretum&rsquo\;s unique plant collections and specialty gardens.&nbsp\;</span><span style="background-color:transparent\; color:rgb(0\, 0\, 0)\; font-family:arial\; font-size:11pt">Bikers of all ages and abilities will be challenged and thrilled by this beautiful course. Racers can go for their best time\, or simply enjoy a unique bike experience at the Arboretum. Prizes will be awarded to top finishers.&nbsp\; Must pre-register\, see website.</span></p>\n
LOCATION:MN Landscape Arboretum 3675 Arboretum Dr Chaska\, MN 55318
UID:e.498.13073
SEQUENCE:3
DTSTAMP:20260423T165943Z
URL:https://business.swmetrochamber.com/events/details/bike-the-arb-13073
END:VEVENT

END:VCALENDAR
