BEGIN:VCALENDAR
VERSION:2.0
PRODID:-//ChamberMaster//Event Calendar 2.0//EN
METHOD:PUBLISH
X-PUBLISHED-TTL:P3D
REFRESH-INTERVAL:P3D
CALSCALE:GREGORIAN
BEGIN:VEVENT
DTSTART:20230601T170000Z
DTEND:20230601T180000Z
X-MICROSOFT-CDO-ALLDAYEVENT:FALSE
SUMMARY:Bag-It & Business June 2023 *FREE*
DESCRIPTION:Join the SouthWest Metro Chamber of Commerce for lunch! This is a great opportunity for you to "Brown Bag-It" for the day and meet your fellow Chamber Members and guests over lunch. \n\n\n\nThis is a bring your own lunch event. There will be a microwave available for your use or stop in at a Member business to grab lunch on the way!
X-ALT-DESC;FMTTYPE=text/html:Join the SouthWest Metro Chamber of Commerce for lunch! This is a great opportunity for you to &quot\;Brown Bag-It&quot\; for the day and meet your fellow Chamber Members and guests over lunch.&nbsp\;<br />\n<br />\n<strong>This is a </strong><b><strong>bring your own</strong> lunch event.&nbsp\;</b>There will be a microwave available for your use or stop in at a Member business to grab lunch on the way!&nbsp\;
LOCATION:Chanhassen Rec. Center\, Room 1 (Minnewashta)
UID:e.498.13042
SEQUENCE:3
DTSTAMP:20260423T114449Z
URL:https://business.swmetrochamber.com/events/details/bag-it-business-june-2023-free-13042
END:VEVENT

END:VCALENDAR
