BEGIN:VCALENDAR
VERSION:2.0
PRODID:-//ChamberMaster//Event Calendar 2.0//EN
METHOD:PUBLISH
X-PUBLISHED-TTL:P3D
REFRESH-INTERVAL:P3D
CALSCALE:GREGORIAN
BEGIN:VEVENT
DTSTART:20210925T210000Z
DTEND:20210926T010000Z
X-MICROSOFT-CDO-ALLDAYEVENT:FALSE
SUMMARY:AppleJam at the Arb
DESCRIPTION:Farm at the Arb is the place to be Saturday night\, Sept 25. Come and enjoy the family games: scavenger hunt\, apple bingo\, lawn games and more. With the The Daisy Dillman Band playing 6 -8 pm. Concessions available and Excelsior Brewing Co. will also be there.
X-ALT-DESC;FMTTYPE=text/html:Farm at the Arb is the place to be Saturday night\, Sept 25. Come and enjoy the family games: scavenger hunt\, apple bingo\, lawn games and more. With the The Daisy Dillman Band playing 6 -8 pm. Concessions available and Excelsior Brewing Co. will also be there.
LOCATION:MN Landscape Arboretum\, 3675 Arboretum Dr\, Chaska\, MN 55318
UID:e.498.12393
SEQUENCE:3
DTSTAMP:20260426T005025Z
URL:https://business.swmetrochamber.com/events/details/applejam-at-the-arb-12393
END:VEVENT

END:VCALENDAR
