BEGIN:VCALENDAR
VERSION:2.0
PRODID:-//ChamberMaster//Event Calendar 2.0//EN
METHOD:PUBLISH
X-PUBLISHED-TTL:P3D
REFRESH-INTERVAL:P3D
CALSCALE:GREGORIAN
BEGIN:VEVENT
DTSTART:20210925T220000Z
DTEND:20210926T010000Z
X-MICROSOFT-CDO-ALLDAYEVENT:FALSE
SUMMARY:AppleJam at the Arb
DESCRIPTION:Farm at the Arb is the place to be Saturday night\, Sept 25\, for the 3rd annual Arboretum AppleJam. Come and enjoy the family fun\, lawn games and concessions. Plus the great music from the Daisy Dillman Band (www.daisy-Dillman.com). Details and tickets at: AppleJam.umn.edu
X-ALT-DESC;FMTTYPE=text/html:Farm at the Arb is the place to be Saturday night\, Sept 25\, for the 3rd annual Arboretum AppleJam. Come and enjoy the family fun\, lawn games and concessions. Plus the great music from the Daisy Dillman Band (www.daisy-Dillman.com). Details and tickets at: AppleJam.umn.edu
LOCATION:MN Landscape Arboretum (Red Barn) 3675 Arboretum Dr Chaska\, MN 55318
UID:e.498.12395
SEQUENCE:3
DTSTAMP:20260426T010718Z
URL:https://business.swmetrochamber.com/events/details/applejam-at-the-arb-09-25-2021-12395
END:VEVENT

END:VCALENDAR
