BEGIN:VCALENDAR
VERSION:2.0
PRODID:-//ChamberMaster//Event Calendar 2.0//EN
METHOD:PUBLISH
X-PUBLISHED-TTL:P3D
REFRESH-INTERVAL:P3D
CALSCALE:GREGORIAN
BEGIN:VEVENT
DTSTART:20250326T160000Z
DTEND:20250326T170000Z
X-MICROSOFT-CDO-ALLDAYEVENT:FALSE
SUMMARY:American Family Insurance: Kevin Robertson Agency Ribbon Cutting
DESCRIPTION:Join the SouthWest Metro Chamber of Commerce at American Family Insurance: Kevin Robertson Agency\, located in Victoria\, for a ribbon cutting!
X-ALT-DESC;FMTTYPE=text/html:Join the SouthWest Metro Chamber of Commerce at American Family Insurance: Kevin Robertson Agency\, located in Victoria\, for a ribbon cutting!&nbsp\;
LOCATION:American Family Insurance: Kevin Robertson Agency 7924 Victoria Dr\, Suite 206\, Victoria MN 55386
UID:e.498.15815
SEQUENCE:3
DTSTAMP:20260421T173412Z
URL:https://business.swmetrochamber.com/events/details/american-family-insurance-kevin-robertson-agency-ribbon-cutting-15815
END:VEVENT

END:VCALENDAR
