BEGIN:VCALENDAR
VERSION:2.0
PRODID:-//ChamberMaster//Event Calendar 2.0//EN
METHOD:PUBLISH
X-PUBLISHED-TTL:P3D
REFRESH-INTERVAL:P3D
CALSCALE:GREGORIAN
BEGIN:VEVENT
DTSTART:20230323T210000Z
DTEND:20230323T230000Z
X-MICROSOFT-CDO-ALLDAYEVENT:FALSE
SUMMARY:After-Hours Networking Social
DESCRIPTION:Hope you can join the SouthWest Metro Chamber for an after-hours social event at Excelsior Brewing Company!  This is a great opportunity to meet and mingle/network with other Chamber Members and guests! \n\nCost includes 1 beverage and heavy apps.
X-ALT-DESC;FMTTYPE=text/html:<div style="text-align: center\;"><span style="font-size:12px\;"><span style="font-family:arial\;">Hope you can join the SouthWest Metro Chamber for an after-hours social event at Excelsior Brewing Company!&nbsp\; This is a great opportunity to meet and mingle/network with other Chamber Members and guests!&nbsp\;<br />\nCost includes 1 beverage&nbsp\;and heavy apps.&nbsp\;&nbsp\;</span></span><br />\n&nbsp\;\n<div style="color: rgb(0\, 0\, 0)\; font-family: Arial\, Verdana\, Helvetica\, sans-serif\; font-size: 14px\; white-space: pre-wrap\;">&nbsp\;</div>\n</div>\n
LOCATION:Excelsior Brewing Company 421 3rd st. Excelsior\, MN 55331 (952) 474-7837
UID:e.498.13012
SEQUENCE:3
DTSTAMP:20260424T015943Z
URL:https://business.swmetrochamber.com/events/details/after-hours-networking-social-13012
END:VEVENT

END:VCALENDAR
