BEGIN:VCALENDAR
VERSION:2.0
PRODID:-//ChamberMaster//Event Calendar 2.0//EN
METHOD:PUBLISH
X-PUBLISHED-TTL:P3D
REFRESH-INTERVAL:P3D
CALSCALE:GREGORIAN
BEGIN:VEVENT
DTSTART:20220928T000000Z
DTEND:20220928T013000Z
X-MICROSOFT-CDO-ALLDAYEVENT:FALSE
SUMMARY:2022 Candidate Forum for MN Senate Dist 48 and House 48 A/B
DESCRIPTION:League of Women Voters of Eastern Carver County\n\nCandidate Forum\n\nfor MN Senate Dist 48 and House 48 A/B\n\n	Eastern Carver County   League of Women Voters Minnesota (LWVMN)\n	(1) League of Women Voters of Eastern Carver County | Facebook\n	LWV Eastern Carver (@lwvecc) / Twitter
X-ALT-DESC;FMTTYPE=text/html:League of Women Voters of Eastern Carver County<br />\n<strong>Candidate Forum</strong><br />\n<span style="color:#0000FF\;"><span style="font-family:calibri\,sans-serif\;"><span style="font-size:11.0pt\;">for MN Senate Dist 48 and House 48 A/B</span></span></span>\n<ul>\n	<li><a href="https://www.lwvmn.org/eastern-carver-county">Eastern Carver County &mdash\; League of Women Voters Minnesota (LWVMN)</a></li>\n	<li><a href="https://www.facebook.com/LeagueOfWomenVotersOfEasternCarverCounty/">(1) League of Women Voters of Eastern Carver County | Facebook</a></li>\n	<li><a href="https://twitter.com/lwvecc">LWV Eastern Carver (@lwvecc) / Twitter</a></li>\n</ul>\n
LOCATION:Carver County Government Center Board Room Google Maps
UID:e.498.12787
SEQUENCE:3
DTSTAMP:20260424T173510Z
URL:https://business.swmetrochamber.com/events/details/2022-candidate-forum-for-mn-senate-dist-48-and-house-48-a-b-12787
END:VEVENT

END:VCALENDAR
