BEGIN:VCALENDAR
VERSION:2.0
PRODID:-//ChamberMaster//Event Calendar 2.0//EN
METHOD:PUBLISH
X-PUBLISHED-TTL:P3D
REFRESH-INTERVAL:P3D
CALSCALE:GREGORIAN
BEGIN:VEVENT
DTSTART:20221025T140000Z
DTEND:20221025T150000Z
X-MICROSOFT-CDO-ALLDAYEVENT:FALSE
SUMMARY:SouthWest Metro Chamber Member Orientation
DESCRIPTION:Hope you can join us for our SouthWest Metro Chamber member orientation!  We will provide a brief overview of Chamber benefits and everyone gets the opportunity to introduce themselves and talk briefly about their business.  We encourage all members to attend whether you have recently joined or been a member for years.  We'll provide coffee and some light breakfast items!
X-ALT-DESC;FMTTYPE=text/html:Hope you can join us for our SouthWest Metro Chamber member orientation!&nbsp\;&nbsp\;We will provide a brief overview of Chamber benefits and everyone gets the opportunity to introduce themselves and talk briefly about their business.&nbsp\; We encourage all members to attend whether you have recently joined or been a member for years.&nbsp\; We&#39\;ll provide coffee and some light breakfast items!
LOCATION:Location change (as of 10/17/22): Lynn Laumann Photography 117 E. 2nd St. Chaska\, MN 55318
UID:e.498.12795
SEQUENCE:3
DTSTAMP:20260425T191917Z
URL:http://business.swmetrochamber.com/events/details/southwest-metro-chamber-member-orientation-12795
END:VEVENT

END:VCALENDAR
