BEGIN:VCALENDAR
VERSION:2.0
PRODID:-//ChamberMaster//Event Calendar 2.0//EN
METHOD:PUBLISH
X-PUBLISHED-TTL:P3D
REFRESH-INTERVAL:P3D
CALSCALE:GREGORIAN
BEGIN:VEVENT
DTSTART:20091008T140000Z
DTEND:20091008T150000Z
X-MICROSOFT-CDO-ALLDAYEVENT:FALSE
SUMMARY:Member Orientation
DESCRIPTION:If  you are a new member or a longtime chamber member and want to learn more about the SouthWest Metro Chamber of Commerce\, please join us for our Member Orientation.  Our Member Orientation is designed to help you make the most of your chamber membership.  This membership event is free to our current and prospective chamber members.  Space is limited and reservations are requested.
X-ALT-DESC;FMTTYPE=text/html:<div>&nbsp\;If&nbsp\; you are a new member or a longtime chamber member and want to learn more about the SouthWest Metro Chamber of Commerce\, please join us for our Member Orientation.&nbsp\; Our Member Orientation is designed to help you make the most of your chamber membership.&nbsp\; This membership event is free to our current and prospective chamber members.&nbsp\; Space is limited and reservations are requested.</div><div>&nbsp\;</div>
LOCATION:Chanhassen Rec CenterLotus Room2310 Coulter BoulevardChanhassen
UID:e.498.2641
SEQUENCE:3
DTSTAMP:20260425T235822Z
URL:http://business.swmetrochamber.com/events/details/member-orientation-10-08-2009-2641
END:VEVENT

END:VCALENDAR
