BEGIN:VCALENDAR
VERSION:2.0
PRODID:-//ChamberMaster//Event Calendar 2.0//EN
METHOD:PUBLISH
X-PUBLISHED-TTL:P3D
REFRESH-INTERVAL:P3D
CALSCALE:GREGORIAN
BEGIN:VEVENT
DTSTART:20090814T140000Z
DTEND:20090814T153000Z
X-MICROSOFT-CDO-ALLDAYEVENT:FALSE
SUMMARY:Member Orientation
DESCRIPTION:August 13 - Member Oriention If you are a new member or a longtime Chamber member and want to learn more about the SouthWest Metro Chamber of Commerce\, please join us for our Member Orientation.  Our member orientation is designed to help you make the most of your chamber membership.  This membership event is free to our current and prospective chamber members.  Space is limited and reservations are requested.   Join us at the Chanhassen Rec Center from 9:00a to 10:00a for Member Orientation.  RSVP at www.swmetrochamber.com or by calling the chamber at 952-448-5000.
X-ALT-DESC;FMTTYPE=text/html:<div><div style="margin: 0in 0in 0pt" align="center"><strong><span style="font-size: 8pt\; color: #333333">August 13 - Member Oriention</span></strong></div><div style="margin: 0in 0in 0pt" align="center">&nbsp\;</div><div style="margin: 0in 0in 0pt\; text-align: left"><strong><span style="font-size: 8pt\; color: #333333">If you are a new member or a longtime Chamber member and want to learn more about the SouthWest Metro Chamber of Commerce\, please join us for our Member Orientation.&nbsp\; Our member orientation is designed to help you make the most of your chamber membership.&nbsp\; This membership event is free to our current and prospective chamber members.&nbsp\; Space is limited and reservations are requested.&nbsp\; </span></strong></div><div style="margin: 0in 0in 0pt" align="center">&nbsp\;</div><div style="margin: 0in 0in 0pt" align="center"><span style="font-size: 8pt\; color: #333333">Join us at the <strong>Chanhassen Rec Center&nbsp\;from</strong><strong> </strong>9:00a to 10:00a&nbsp\;for Member Orientation.&nbsp\; RSVP at <a href="http://www.swmetrochamber.com/">www.swmetrochamber.com</a> or by calling the chamber at 952-448-5000.&nbsp\;</span></div></div>
LOCATION:Chanhassen Rec Center\, Lotus Room2310 Coulter Boulevard Chanhassen
UID:e.498.3196
SEQUENCE:3
DTSTAMP:20260426T011352Z
URL:http://business.swmetrochamber.com/events/details/member-orientation-08-14-2009-3196
END:VEVENT

END:VCALENDAR
