BEGIN:VCALENDAR
VERSION:2.0
PRODID:-//ChamberMaster//Event Calendar 2.0//EN
METHOD:PUBLISH
X-PUBLISHED-TTL:P3D
REFRESH-INTERVAL:P3D
CALSCALE:GREGORIAN
BEGIN:VEVENT
DTSTART:20250522T210000Z
DTEND:20250522T230000Z
X-MICROSOFT-CDO-ALLDAYEVENT:FALSE
SUMMARY:I-94 West Chamber Annual Bean Bag Tournament
DESCRIPTION:Join us for a fun-filled evening at the Emerging Leaders Annual Bean Bag Tournament at the Lookout Bar & Grill! This collaborative event\, hosted by the Eden Prairie Chamber\, Southwest Metro Chamber\, Shakopee Chamber\, and I-94 West Chamber\, promises to be an exciting way to network\, unwind\, and enjoy some friendly competition.\n\nTeams will compete in the bean bag tournament while enjoying delicious appetizers and great conversation. Whether you're there to play\, network\, or cheer on your favorite team\, this event is a perfect way to connect with fellow professionals and celebrate the start of the summer season.\n\nDon't miss out on this opportunity to mingle with peers from multiple Chambers and make lasting connections. We can't wait to see you there!\n\n\n\n*Teams will be chosen at the event\, if you attend with someone you would like to play with\, please check in with them at the event*
X-ALT-DESC;FMTTYPE=text/html:<p data-end="409" data-start="69" style="box-sizing: border-box\; margin: 0px 0px 1rem\; font-size: var(--font-size-b2)\; line-height: var(--line-height-b2)\; font-family: Arial\, Helvetica\, sans-serif\; color: black !important\;">Join us for a fun-filled evening at the&nbsp\;<span data-end="176" data-start="109" style="box-sizing: border-box\; font-weight: bolder\;">Emerging Leaders Annual Bean Bag Tournament at the Lookout Bar &amp\; Grill</span>! This collaborative event\, hosted by the&nbsp\;<span data-end="242" data-start="218" style="box-sizing: border-box\; font-weight: bolder\;">Eden Prairie Chamber</span>\,&nbsp\;<span data-end="271" data-start="244" style="box-sizing: border-box\; font-weight: bolder\;">Southwest Metro Chamber</span>\,&nbsp\;<span data-end="293" data-start="273" style="box-sizing: border-box\; font-weight: bolder\;">Shakopee Chamber</span>\, and&nbsp\;<span data-end="320" data-start="299" style="box-sizing: border-box\; font-weight: bolder\;">I-94 West Chamber</span>\, promises to be an exciting way to network\, unwind\, and enjoy some friendly competition.</p>\n\n<p data-end="698" data-start="411" style="box-sizing: border-box\; margin: 0px 0px 1rem\; font-size: var(--font-size-b2)\; line-height: var(--line-height-b2)\; font-family: Arial\, Helvetica\, sans-serif\; color: black !important\;">Teams will compete in the bean bag tournament while enjoying delicious appetizers and great conversation. Whether you&#39\;re there to play\, network\, or cheer on your favorite team\, this event is a perfect way to connect with fellow professionals and celebrate the start of the summer season.</p>\n\n<p data-end="841" data-start="700" style="box-sizing: border-box\; margin: 0px 0px 1rem\; font-size: var(--font-size-b2)\; line-height: var(--line-height-b2)\; font-family: Arial\, Helvetica\, sans-serif\; color: black !important\;">Don&#39\;t miss out on this opportunity to mingle with peers from multiple Chambers and make lasting connections. We can&#39\;t wait to see you there!<br style="box-sizing: border-box\;" />\n<br style="box-sizing: border-box\;" />\n<em style="box-sizing: border-box\;">*Teams will be chosen at the event\, if you attend with someone you would like to play with\, please check in with them at the event*</em></p>\n
LOCATION:The Lookout Bar & Grill 8672 Pineviw Ln N\, Maple Grove MN\, 55369
UID:e.498.15804
SEQUENCE:3
DTSTAMP:20260420T082812Z
URL:http://business.swmetrochamber.com/events/details/i-94-west-chamber-annual-bean-bag-tournament-15804
END:VEVENT

END:VCALENDAR
