BEGIN:VCALENDAR
VERSION:2.0
PRODID:-//ChamberMaster//Event Calendar 2.0//EN
METHOD:PUBLISH
X-PUBLISHED-TTL:P3D
REFRESH-INTERVAL:P3D
CALSCALE:GREGORIAN
BEGIN:VEVENT
DTSTART:20091217T173000Z
DTEND:20091217T190000Z
X-MICROSOFT-CDO-ALLDAYEVENT:FALSE
SUMMARY:Economic Development
DESCRIPTION:
X-ALT-DESC;FMTTYPE=text/html:
LOCATION:Chanhassen City Hall7700 Market BoulevardChanhassen\, MN 55317
UID:e.498.3029
SEQUENCE:3
DTSTAMP:20260424T033225Z
URL:http://business.swmetrochamber.com/events/details/economic-development-12-17-2009-3029
END:VEVENT

END:VCALENDAR
