BEGIN:VCALENDAR
VERSION:2.0
PRODID:-//ChamberMaster//Event Calendar 2.0//EN
METHOD:PUBLISH
X-PUBLISHED-TTL:P3D
REFRESH-INTERVAL:P3D
CALSCALE:GREGORIAN
BEGIN:VEVENT
DTSTART:20090818T170000Z
DTEND:20090818T180000Z
X-MICROSOFT-CDO-ALLDAYEVENT:FALSE
SUMMARY:E-Workplace Meeting
DESCRIPTION:Carver County is hosting a luncheon meeting event at the Arboretum at noon on Tuesday\, August 18\, 2009 for E-Workplace.  The Minnesota Department of Transportation (MN/DOT) in partnership with the University of MN Humphrey Institute launched the eWorkPlace initiative in the beginning of June 2009. The main purpose of the initiative is to reduce congestion on the roads in and around the Twin Cities by encouraging employers to offer workers the option of teleworking (working from home or a remote location and connecting to the office\, co-workers and clients using the Internet and other technology).   Visit http://www.eworkplace-mn.com/ for more information.
X-ALT-DESC;FMTTYPE=text/html:<div><div style="margin: 0in 0in 0pt"><b>Carver</b><b> County</b><b> is hosting a luncheon meeting event at the <span style="background-color: #ffff00">Arboretum at noon </span>on <span style="background: yellow">Tuesday\, August 18\, 2009</span> for E-Workplace. </b></div><div style="margin: 0in 0in 0pt">&nbsp\;</div><div style="margin: 0in 0in 0pt"><b><div style="margin: 0in 0in 0pt">The Minnesota Department of Transportation (MN/DOT) in partnership with the University of MN Humphrey Institute launched the <b>eWorkPlace </b>initiative in the beginning of June 2009. The main purpose of the initiative is to reduce congestion on the roads in and around the Twin Cities by encouraging employers to offer workers the option of teleworking (working from home or a remote location and connecting to the office\, co-workers and clients using the Internet and other technology).&nbsp\;&nbsp\; Visit <a href="http://www.eworkplace-mn.com/">http://www.eworkplace-mn.com/</a>&nbsp\;for more information.</div><div style="margin: 0in 0in 0pt">&nbsp\;</div><div style="margin: 0in 0in 0pt">&nbsp\;</div></b></div></div>
LOCATION:
UID:e.498.3060
SEQUENCE:3
DTSTAMP:20260426T011245Z
URL:http://business.swmetrochamber.com/events/details/e-workplace-meeting-08-18-2009-3060
END:VEVENT

END:VCALENDAR
