BEGIN:VCALENDAR
VERSION:2.0
PRODID:-//ChamberMaster//Event Calendar 2.0//EN
METHOD:PUBLISH
X-PUBLISHED-TTL:P3D
REFRESH-INTERVAL:P3D
CALSCALE:GREGORIAN
BEGIN:VEVENT
DTSTART:20101012T213000Z
DTEND:20101012T233000Z
X-MICROSOFT-CDO-ALLDAYEVENT:FALSE
SUMMARY:Candidate Open House
DESCRIPTION:Meet your local City Candidates!\n\n	 Meet the candidates that are vying for your vote! \n\n	The SouthWest Metro Chamber of Commerce is hosting the candidates running for City Council and Mayoral Seats in the cities of Carver\, Chanhassen\, Chaska and Victoria.  Each candidate that has filed for one of these offices has been invited to attend our open house to meet the business constituency of the region.\n\n	\n\n	AGENDA\n\n	 \n\n	4:30 p.m.              Registration & Reception\n\n	5:00 - 6:00 p.m.   Candidate Introductions\n\n	6:00-6:30 p.m.      Reception and Open House Continues\n\n	6:30 p.m.              Adjourn
X-ALT-DESC;FMTTYPE=text/html:<p style="text-align: center\;">\n	<strong><span style="font-family: times new roman\;"><span style="font-size: 16px\;">Meet your local City Candidates</span></span></strong><span style="font-size: 14px\;">!</span><br />\n	&nbsp\;<span style="font-family: times new roman\;"><span style="font-size: 16px\;">Meet the candidates that are vying for your vote!&nbsp\;<br />\n	The SouthWest Metro Chamber of Commerce&nbsp\;is hosting the candidates running for City Council and Mayoral Seats in the cities of Carver\, Chanhassen\, Chaska and Victoria.&nbsp\; Each candidate that has filed for one of these offices has been invited to attend our open house to meet the business constituency of the region.<br />\n	<br />\n	AGENDA</span></span><br />\n	&nbsp\;</p>\n<p>\n	<span style="font-family: times new roman\;"><span style="font-size: 16px\;">4:30 p.m.&nbsp\;&nbsp\;&nbsp\;&nbsp\;&nbsp\;&nbsp\;&nbsp\;&nbsp\;&nbsp\;&nbsp\;&nbsp\;&nbsp\;&nbsp\; Registration &amp\; Reception<br />\n	5:00 - 6:00 p.m.&nbsp\;&nbsp\;&nbsp\;Candidate Introductions<br />\n	6:00-6:30 p.m.&nbsp\;&nbsp\;&nbsp\;&nbsp\;&nbsp\; Reception and Open House Continues<br />\n	6:30 p.m.&nbsp\;&nbsp\;&nbsp\;&nbsp\;&nbsp\;&nbsp\;&nbsp\;&nbsp\;&nbsp\;&nbsp\;&nbsp\;&nbsp\;&nbsp\;&nbsp\;Adjourn</span></span><br />\n	&nbsp\;</p>\n
LOCATION:Country Inn & Suites Banquet Room 591 West 78th Street Chanhassen\, Minnesota
UID:e.498.4221
SEQUENCE:3
DTSTAMP:20260425T031949Z
URL:http://business.swmetrochamber.com/events/details/candidate-open-house-10-12-2010-4221
END:VEVENT

END:VCALENDAR
