BEGIN:VCALENDAR
VERSION:2.0
PRODID:-//ChamberMaster//Event Calendar 2.0//EN
METHOD:PUBLISH
X-PUBLISHED-TTL:P3D
REFRESH-INTERVAL:P3D
CALSCALE:GREGORIAN
BEGIN:VEVENT
DTSTART:20091104T173000Z
DTEND:20091104T190000Z
X-MICROSOFT-CDO-ALLDAYEVENT:FALSE
SUMMARY:Ambassadors
DESCRIPTION:The Ambassador's Committee coordinates grand openings\, ribbon cuttings\, ground breaking ceremonies and mentors new members.  Its members are the official greeters at Chamber events and also make monthly visits to new and existing members acquainting them with the Chamber's programs and services.  Ambassador  visits are the first Wednesday of each month rotating between Carver\, Chanhassen\, Chaska and Victoria.  If you would like to join the Ambassador Committee contact Kristie at 952-448-5000.
X-ALT-DESC;FMTTYPE=text/html:<div>The <strong>Ambassador&rsquo\;s Committee </strong>coordinates grand openings\, ribbon cuttings\, ground breaking ceremonies and mentors new members.&nbsp\; Its members are the official greeters at Chamber events and also make monthly visits to new and existing members acquainting them with the Chamber&rsquo\;s programs and services.&nbsp\; Ambassador&nbsp\; visits are the first Wednesday of each month&nbsp\;rotating between Carver\, Chanhassen\, Chaska and Victoria.&nbsp\; If you would like to join the Ambassador Committee contact Kristie at 952-448-5000.</div><div>&nbsp\;</div><div>&nbsp\;</div>
LOCATION:
UID:e.498.3228
SEQUENCE:3
DTSTAMP:20260425T162213Z
URL:http://business.swmetrochamber.com/events/details/ambassadors-11-04-2009-3228
END:VEVENT

END:VCALENDAR
