BEGIN:VCALENDAR
VERSION:2.0
PRODID:-//ChamberMaster//Event Calendar 2.0//EN
METHOD:PUBLISH
X-PUBLISHED-TTL:P3D
REFRESH-INTERVAL:P3D
CALSCALE:GREGORIAN
BEGIN:VEVENT
DTSTART:20090805T163000Z
DTEND:20090805T180000Z
X-MICROSOFT-CDO-ALLDAYEVENT:FALSE
SUMMARY:Ambassadors
DESCRIPTION:
X-ALT-DESC;FMTTYPE=text/html:
LOCATION:
UID:e.498.3050
SEQUENCE:3
DTSTAMP:20260426T033020Z
URL:http://business.swmetrochamber.com/events/details/ambassadors-08-05-2009-3050
END:VEVENT

END:VCALENDAR
